BEGIN:VCALENDAR
VERSION:2.0
PRODID:-//Welcome to Farmington - ECPv6.15.18//NONSGML v1.0//EN
CALSCALE:GREGORIAN
METHOD:PUBLISH
X-WR-CALNAME:Welcome to Farmington
X-ORIGINAL-URL:https://visitfarmington.org
X-WR-CALDESC:Events for Welcome to Farmington
REFRESH-INTERVAL;VALUE=DURATION:PT1H
X-Robots-Tag:noindex
X-PUBLISHED-TTL:PT1H
BEGIN:VTIMEZONE
TZID:America/Kentucky/Louisville
BEGIN:DAYLIGHT
TZOFFSETFROM:-0500
TZOFFSETTO:-0400
TZNAME:EDT
DTSTART:20230312T070000
END:DAYLIGHT
BEGIN:STANDARD
TZOFFSETFROM:-0400
TZOFFSETTO:-0500
TZNAME:EST
DTSTART:20231105T060000
END:STANDARD
BEGIN:DAYLIGHT
TZOFFSETFROM:-0500
TZOFFSETTO:-0400
TZNAME:EDT
DTSTART:20240310T070000
END:DAYLIGHT
BEGIN:STANDARD
TZOFFSETFROM:-0400
TZOFFSETTO:-0500
TZNAME:EST
DTSTART:20241103T060000
END:STANDARD
BEGIN:DAYLIGHT
TZOFFSETFROM:-0500
TZOFFSETTO:-0400
TZNAME:EDT
DTSTART:20250309T070000
END:DAYLIGHT
BEGIN:STANDARD
TZOFFSETFROM:-0400
TZOFFSETTO:-0500
TZNAME:EST
DTSTART:20251102T060000
END:STANDARD
END:VTIMEZONE
BEGIN:VTIMEZONE
TZID:UTC
BEGIN:STANDARD
TZOFFSETFROM:+0000
TZOFFSETTO:+0000
TZNAME:UTC
DTSTART:20220101T000000
END:STANDARD
END:VTIMEZONE
BEGIN:VEVENT
DTSTART;TZID=America/Kentucky/Louisville:20240617T180000
DTEND;TZID=America/Kentucky/Louisville:20240617T193000
DTSTAMP:20260422T023439
CREATED:20240605T021205Z
LAST-MODIFIED:20240605T021205Z
UID:2009-1718647200-1718652600@visitfarmington.org
SUMMARY:Garden Questions TipTimeText-in
DESCRIPTION:Garden Question TipTimeText-in \nHave a question about your edible or ornamental gardening efforts or just need a second opinion? Text in with your questions the third Monday of each month and a Jefferson County Master Gardener will provide the information you need or get answers for you from the Jefferson County Extension Service. \nText your garden questions to 502-216-8950 on the third Monday of each month.6-7:30pm   Don’t text? email them to Heather@historichomes.org subject line:Garden Question TipTimeText-in and we will forward them to the Master Gardeners for answering on TipTime day.
URL:https://visitfarmington.org/event/garden-questions-tiptimetext-in/
END:VEVENT
BEGIN:VEVENT
DTSTART;TZID=America/Kentucky/Louisville:20240615T093000
DTEND;TZID=America/Kentucky/Louisville:20240615T110000
DTSTAMP:20260422T023439
CREATED:20240529T163836Z
LAST-MODIFIED:20250531T173423Z
UID:1905-1718443800-1718449200@visitfarmington.org
SUMMARY:June in the Vegetable Garden
DESCRIPTION:Master Gardener Educational Program at Farmington \nJune is the month we discover which seeds are sprouting and which plants need thinning!  Families will learn about good watering practices\, providing support for plants and good weeding practices.  We will also discuss general insect damage control. \nMeet under the Pavillion    Open to all ages\, including families with children ages 5-12. \nPark at the Visitor Center Parking lot.  Follow the walking path over the bridge to the garden behind the main house.
URL:https://visitfarmington.org/event/june-in-the-vegetable-garden/
LOCATION:Farmington\, 3033 Bardstown Road\, Louisville\, 40205\, United States
CATEGORIES:Garden Education,Walk & Talk
ATTACH;FMTTYPE=image/jpeg:https://visitfarmington.org/wp-content/uploads/2025/03/In-the-Vegetable-Garden-FBEC.jpeg
END:VEVENT
BEGIN:VEVENT
DTSTART;TZID=America/Kentucky/Louisville:20240612T100000
DTEND;TZID=America/Kentucky/Louisville:20240612T140000
DTSTAMP:20260422T023439
CREATED:20240523T143522Z
LAST-MODIFIED:20240523T150842Z
UID:1731-1718186400-1718200800@visitfarmington.org
SUMMARY:Cultural Pass at Farmington
DESCRIPTION:The 2024 Cultural Pass is your passport to creativity!  Farmington is thrilled to welcome Cultural Pass visitors again this year. Youth & Senior Passholders welcome. All visits begin in the Visitor Center.  We will stamp your Passport and give you your tour packet- including the self-guided tours of the Main House\, and the grounds. Docents will be stationed throughout the museum to answer questions. Bring a picnic lunch to enjoy on the grounds.    Last entry to the Main house is at 2:00. \nToday’s special guests/activities: more information coming soon.  Youth Passholders may complete and turn in a scavenger hunt for entry into a prize drawing at the end of summer. \nNon-Cultural Pass participants are welcome to visit and tour on Cultural Pass days also-Admission Tickets may be purchased in the Visitor Center.  Be aware we do not offer our traditional Guided Tours on Cultural Pass days. \nCultural Pass offers young people ages 0-21 and their families in the Greater Louisville area access to participate in arts and cultural activities provided by over 50 venues\, free of charge.  Must have your physical Cultural Pass passport with you.  Eligible youth may register and pick their Passports up at their county library.  Group Cultural Pass experiences may be arranged through Fund for the Arts.
URL:https://visitfarmington.org/event/cultural-pass-wednesday-at-farmington/
END:VEVENT
BEGIN:VEVENT
DTSTART;TZID=UTC:20240605T100000
DTEND;TZID=UTC:20240605T140000
DTSTAMP:20260422T023439
CREATED:20240323T001806Z
LAST-MODIFIED:20240529T164023Z
UID:1017-1717581600-1717596000@visitfarmington.org
SUMMARY:Cultural Pass at Farmington
DESCRIPTION:The 2024 Cultural Pass is your passport to creativity!  Farmington is thrilled to welcome Cultural Pass visitors again this year. Youth & Senior Passholders welcome. All visits begin in the Visitor Center.  We will stamp your Passport and give you your tour packet- including the self-guided tours of the Main House\, and the grounds. Docents will be stationed throughout the museum to answer questions. Bring a picnic lunch to enjoy on the grounds.    Last entry to the Main house is at 2:00. \nToday’s special guests/activities: more information coming soon.  Youth Passholders may complete and turn in a scavenger hunt for entry into a prize drawing at the end of summer. \nNon-Cultural Pass participants are welcome to visit and tour on Cultural Pass days also-Admission Tickets may be purchased in the Visitor Center.  Be aware we do not offer our traditional Guided Tours on Cultural Pass days. \nCultural Pass offers young people ages 0-21 and their families in the Greater Louisville area access to participate in arts and cultural activities provided by over 50 venues\, free of charge.  Must have your physical Cultural Pass passport with you.  Eligible youth may register and pick their Passports up at their county library.  Group Cultural Pass experiences may be arranged through Fund for the Arts.
URL:https://visitfarmington.org/event/june-5-aug-4-cultural-pass/
LOCATION:Farmington\, 3033 Bardstown Road\, Louisville\, 40205\, United States
END:VEVENT
BEGIN:VEVENT
DTSTART;TZID=America/Kentucky/Louisville:20240511T110000
DTEND;TZID=America/Kentucky/Louisville:20240511T140000
DTSTAMP:20260422T023439
CREATED:20240426T152920Z
LAST-MODIFIED:20240426T152920Z
UID:1296-1715425200-1715436000@visitfarmington.org
SUMMARY:Volunteer Recruitment Event
DESCRIPTION:Join our team. We are looking for enthusiastic and friendly people who love history for a variety of volunteer opportunities! To learn more\, attend the volunteer information session at noon (12:00 pm). Free tours available at 11:00 am and 1:00 pm for those interested in volunteering. If you are interested\, but unable to attend on May 11\, contact Nancy Owen at 502-452-9920 or Nancy@historichomes.org
URL:https://visitfarmington.org/event/volunteer-recruitment-event/
END:VEVENT
BEGIN:VEVENT
DTSTART;TZID=America/Kentucky/Louisville:20240504T100000
DTEND;TZID=America/Kentucky/Louisville:20240504T130000
DTSTAMP:20260422T023439
CREATED:20240426T152803Z
LAST-MODIFIED:20240426T152803Z
UID:1294-1714816800-1714827600@visitfarmington.org
SUMMARY:Historic Homes Foundation Derby Breakfast
DESCRIPTION:at Farmington.  The 45th Annual Derby Breakfast is a Louisville tradition.  Dust off your hats and press your seersucker suit and join us for mint juleps and bloody marys before placing your bets on the horses!
URL:https://visitfarmington.org/event/historic-homes-foundation-derby-breakfast/
LOCATION:Farmington\, 3033 Bardstown Road\, Louisville\, 40205\, United States
END:VEVENT
BEGIN:VEVENT
DTSTART;VALUE=DATE:20240504
DTEND;VALUE=DATE:20240505
DTSTAMP:20260422T023439
CREATED:20240322T235608Z
LAST-MODIFIED:20240322T235944Z
UID:990-1714780800-1714867199@visitfarmington.org
SUMMARY:May 4 - Historic Homes Foundation Derby Breakfast
DESCRIPTION:The 45th Annual Derby Breakfast is a Louisville tradition.  Dust off your hats and press your seersucker suit and join us for mint juleps and bloody Marys before placing your bets on the horses! \n\nBuy your tickets at:  http://bidpal.net/derbybreakfast 
URL:https://visitfarmington.org/event/derbybreakfast2024/
LOCATION:Farmington\, 3033 Bardstown Road\, Louisville\, 40205\, United States
END:VEVENT
BEGIN:VEVENT
DTSTART;VALUE=DATE:20240419
DTEND;VALUE=DATE:20240421
DTSTAMP:20260422T023439
CREATED:20240323T001912Z
LAST-MODIFIED:20240331T000641Z
UID:1019-1713484800-1713657599@visitfarmington.org
SUMMARY:April 19 & 20 - Annual Plant Sale
DESCRIPTION:Friday 12 – 6pm\nSaturday 8 am – 4pm \nDOWNLOAD PRE ORDER FORM
URL:https://visitfarmington.org/event/april-19-20-annual-plant-sale/
LOCATION:Farmington\, 3033 Bardstown Road\, Louisville\, 40205\, United States
END:VEVENT
BEGIN:VEVENT
DTSTART;VALUE=DATE:20240418
DTEND;VALUE=DATE:20240419
DTSTAMP:20260422T023439
CREATED:20240322T232839Z
LAST-MODIFIED:20240322T232927Z
UID:982-1713398400-1713484799@visitfarmington.org
SUMMARY:April 18 - It's our Anniversary!
DESCRIPTION:On April 18\, 1959 Farmington first opened to the public as a historic site.
URL:https://visitfarmington.org/event/april-18-its-our-anniversary/
LOCATION:Farmington\, 3033 Bardstown Road\, Louisville\, 40205\, United States
END:VEVENT
BEGIN:VEVENT
DTSTART;TZID=UTC:20240322T080000
DTEND;TZID=UTC:20240322T170000
DTSTAMP:20260422T023439
CREATED:20240323T001139Z
LAST-MODIFIED:20240323T001139Z
UID:1011-1711094400-1711126800@visitfarmington.org
SUMMARY:June 5 - Aug 4 - Cultural Pass
DESCRIPTION:Every Wednesday during the summer\, the 2024 Cultural Pass is your passport to creativity! Cultural Pass offers young people ages 0-21 and their families in the Greater Louisville area access to participate in arts and cultural activities provided by over 50 venues\, free of charge.
URL:https://visitfarmington.org/event/june-5-aug-4-cultural-pass-2/
LOCATION:Farmington\, 3033 Bardstown Road\, Louisville\, 40205\, United States
END:VEVENT
BEGIN:VEVENT
DTSTART;TZID=UTC:20240322T080000
DTEND;TZID=UTC:20240322T170000
DTSTAMP:20260422T023439
CREATED:20240323T000253Z
LAST-MODIFIED:20240323T000253Z
UID:997-1711094400-1711126800@visitfarmington.org
SUMMARY:June 19 - Juneteenth
DESCRIPTION:Farmington offers free tours on Juneteenth\, the federal holiday commemorating the end of slavery in the United States.
URL:https://visitfarmington.org/event/june-19-juneteenth/
END:VEVENT
BEGIN:VEVENT
DTSTART;TZID=UTC:20231202T180000
DTEND;TZID=UTC:20231202T200000
DTSTAMP:20260422T023439
CREATED:20231110T004842Z
LAST-MODIFIED:20231110T004842Z
UID:857-1701540000-1701547200@visitfarmington.org
SUMMARY:Holiday Open House
DESCRIPTION:Get a jump on your holiday shopping & enjoy some seasonal beverages at the Farmington Visitor Center Museum Store. Hayrides for the young & young at heart will be available from Farmington through Wellington to admire the neighborhood lights. \nHoliday Raffle Drawing during the Open House- $50.00 a ticket gets you a chance to win a 4-night stay in Dahlonhega\, GA & a bottle of Blanton’s bourbon.  Over $1000.00 value.
URL:https://visitfarmington.org/event/holiday-open-house/
LOCATION:Farmington\, 3033 Bardstown Road\, Louisville\, 40205\, United States
END:VEVENT
BEGIN:VEVENT
DTSTART;TZID=UTC:20231117T180000
DTEND;TZID=UTC:20231117T190000
DTSTAMP:20260422T023439
CREATED:20231025T144932Z
LAST-MODIFIED:20231025T144932Z
UID:852-1700244000-1700247600@visitfarmington.org
SUMMARY:Slave Dwelling Project
DESCRIPTION:On November 17\, join the Slave Dwelling Project’s Joe McGill for a campfire discussion before he sleeps at Farmington.  Numbers are limited for both discussion and the sleepover.  Saturday\, go with Joe to the African American Heritage Center for a book signing!
URL:https://visitfarmington.org/event/slave-dwelling-project/
LOCATION:Farmington\, 3033 Bardstown Road\, Louisville\, 40205\, United States
END:VEVENT
BEGIN:VEVENT
DTSTART;TZID=UTC:20231111T180000
DTEND;TZID=UTC:20231111T230000
DTSTAMP:20260422T023439
CREATED:20231110T004614Z
LAST-MODIFIED:20231110T005242Z
UID:855-1699725600-1699743600@visitfarmington.org
SUMMARY:Fire in the Field
DESCRIPTION:Join us for a cozy evening around the campfire with our friends and neighbors.  We recommend you bring a camp chair and a flashlight.   This family friendly event is free & open to the public.  S’more kits\, hot dogs\, chili & cider will be available for purchase\, along with adult beverages (ID required).   Park at the Visitor Center and walk up to the Brand Pavilion behind the Museum
URL:https://visitfarmington.org/event/fire-in-the-field/
LOCATION:Farmington\, 3033 Bardstown Road\, Louisville\, 40205\, United States
END:VEVENT
BEGIN:VEVENT
DTSTART;TZID=UTC:20231108T180000
DTEND;TZID=UTC:20231108T190000
DTSTAMP:20260422T023439
CREATED:20230410T212516Z
LAST-MODIFIED:20230410T212544Z
UID:574-1699466400-1699470000@visitfarmington.org
SUMMARY:2023 BOOK DISCUSSION SERIES-SLEEPING WITH THE ANCESTORS BY JOSEPH MCGILL @RIVERSIDE
DESCRIPTION:Join the Louisville Coalition on the History of the Enslaved for its 2023 book discussion Series. Each community discussion will begin at 6:00 pm at the host site. For more information visit https://bit.ly/3H4c4vW \nRegistration is FREE thanks to our sponsors Guy & Elizabeth Montgomery \nFeb 16th-All That She Carried by Tiya Miles @ Locust Grove \nMay 25th- Behind the Big House by Jodi Skipper @ Oxmoor Farm \nSept 21st- The Humanity Archive by Jermaine Fowler @ Farmington Historic Plantation \nNov 8th- Sleeping with the Ancestors by Joseph McGill @ Riverside\, the Farnsely-Moremen Landing
URL:https://visitfarmington.org/event/2023-book-discussion-series-sleeping-with-the-ancestors-by-joseph-mcgill-riverside/
LOCATION:Riverside\, the Farnsley-Moremen Landing\, 7410 Moorman Road\, Louisville\, KY\, 40272\, United States
END:VEVENT
BEGIN:VEVENT
DTSTART;TZID=UTC:20230921T180000
DTEND;TZID=UTC:20230921T190000
DTSTAMP:20260422T023439
CREATED:20230410T212319Z
LAST-MODIFIED:20230410T212319Z
UID:572-1695319200-1695322800@visitfarmington.org
SUMMARY:2023 BOOK DISCUSSION SERIES-THE HUMANITY ARCHIVE BY JERMAINE FOWLER @FARMINGTON
DESCRIPTION:Join the Louisville Coalition on the History of the Enslaved for its 2023 book discussion Series. Each community discussion will begin at 6:00 pm at the host site. For more information visit https://bit.ly/3H4c4vW \nRegistration is FREE thanks to our sponsors Guy & Elizabeth Montgomery \nFeb 16th-All That She Carried by Tiya Miles @ Locust Grove \nMay 25th- Behind the Big House by Jodi Skipper @ Oxmoor Farm \nSept 21st- The Humanity Archive by Jermaine Fowler @ Farmington Historic Plantation \nNov 8th- Sleeping with the Ancestors by Joseph McGill @ Riverside\, the Farnsely-Moremen Landing
URL:https://visitfarmington.org/event/2023-book-discussion-series-the-humanity-archive-by-jermaine-fowler-farmington/
LOCATION:Farmington\, 3033 Bardstown Road\, Louisville\, 40205\, United States
END:VEVENT
BEGIN:VEVENT
DTSTART;TZID=UTC:20230603T110000
DTEND;TZID=UTC:20230603T130000
DTSTAMP:20260422T023439
CREATED:20230601T181803Z
LAST-MODIFIED:20230601T181803Z
UID:771-1685790000-1685797200@visitfarmington.org
SUMMARY:Culture Pass
DESCRIPTION:Did you know Hemp was one of Kentucky’s earliest important crops? Explore its complex history and manufacture thru the people of Farmington. Learn about Abraham Lincoln’s connection to the Speed family and why his 1841 visit to Farmington was important. The Cultural Pass experience includes parent-led tours of the main plantation house and grounds\, and a hands-on artifact investigation with a KAS archaeologist. Docents will be available to answer questions.  Watch for additional information about Special Guest Experience days\, including the Jefferson County Master Gardeners leading a garden activities.  Bring you picnic lunch and blanket! \nAll Tours begin in the Visitor Center. Don’t forget to bring your pass with you! \nSuggested Age range:  6-21 \nRequirements: The families do not need to rsvp ahead of time but they will need to have picked up their Cultural Pass from the library before hand\, and need to bring the physical pass with them.   Children need to be accompanied by an adult. Cultural Pass admission includes 1 adult per pass/limit 2 free adults per family.  Additional guests not covered by Pass admission guidelines may purchase a discounted tour ticket for $5.00.
URL:https://visitfarmington.org/event/culture-pass/
LOCATION:Farmington\, 3033 Bardstown Road\, Louisville\, 40205\, United States
END:VEVENT
BEGIN:VEVENT
DTSTART;TZID=UTC:20230525T180000
DTEND;TZID=UTC:20230525T190000
DTSTAMP:20260422T023439
CREATED:20230410T211903Z
LAST-MODIFIED:20230410T211903Z
UID:566-1685037600-1685041200@visitfarmington.org
SUMMARY:2023 BOOK DISCUSSION SERIES- BEHIND THE BIG HOUSE BY JODI SKIPPER @OXMOOR FARMS
DESCRIPTION:Join the Louisville Coalition on the History of the Enslaved for its 2023 book discussion Series. Each community discussion will take place at 6:00 pm at the host site for the title. For more information visit https://bit.ly/3H4c4vW \nRegistration is FREE thanks to our sponsors Guy & Elizabeth Montgomery \nFeb 16th-All That She Carried by Tiya Miles @ Locust Grove \nMay 25th- Behind the Big House by Jodi Skipper @ Oxmoor Farm \nSept 21st- The Humanity Archive by Jermaine Fowler @ Farmington Historic Plantation \nNov 8th- Sleeping with the Ancestors by Joseph McGill @ Riverside\, the Farnsely-Moremen Landing
URL:https://visitfarmington.org/event/2023-book-discussion-series-behind-the-big-house-by-jodi-skipper-oxmoor-farms/
LOCATION:Oxmoor Farm\, 720 Oxmoor Avenu\, Louisville\, KY\, 40222\, United States
END:VEVENT
BEGIN:VEVENT
DTSTART;TZID=UTC:20230521T150000
DTEND;TZID=UTC:20230521T150000
DTSTAMP:20260422T023439
CREATED:20230410T212138Z
LAST-MODIFIED:20230510T220647Z
UID:570-1684681200-1684681200@visitfarmington.org
SUMMARY:20TH ANNIVERSARY OF THE DEDICATION OF MEMORIAL MEDALLION TO THE ENSLAVED AFRICAN AMERICANS AT FARMINGTON
DESCRIPTION:Dedicated May 21 2003- FUTURE PROGRAMING in 2023 for 20th Anniversary \nDetails and Time subject to change
URL:https://visitfarmington.org/event/20th-anniversary-of-the-dedication-of-memorial-medallion-to-the-enslaved-african-americans-at-farmington/
LOCATION:Farmington\, 3033 Bardstown Road\, Louisville\, 40205\, United States
END:VEVENT
BEGIN:VEVENT
DTSTART;TZID=UTC:20230421T080000
DTEND;TZID=UTC:20230422T160000
DTSTAMP:20260422T023439
CREATED:20230410T213125Z
LAST-MODIFIED:20230411T235357Z
UID:578-1682064000-1682179200@visitfarmington.org
SUMMARY:FARMINGTON PLANT SALE
DESCRIPTION:Join us under the Brand Pavilion! \nFriday\, April 21 – 12 pm to 6 pm\nSaturday\, April 22 – 8 am to 4 pm \nAdvance orders are due Thursday April 13th. Orders may be emailed to FarmingtonEvents@historichomes.org or dropped off at the Visitor Center. \nPerennials\, annuals\, vegetable\, & herbs are available for your gardening pleasure! \nCLICK HERE FOR THE 2023 PLANT SALE ORDER FORM
URL:https://visitfarmington.org/event/farmington-plant-sale/
LOCATION:Farmington\, 3033 Bardstown Road\, Louisville\, 40205\, United States
END:VEVENT
END:VCALENDAR