BEGIN:VCALENDAR
VERSION:2.0
PRODID:-//Welcome to Farmington - ECPv6.15.18//NONSGML v1.0//EN
CALSCALE:GREGORIAN
METHOD:PUBLISH
X-WR-CALNAME:Welcome to Farmington
X-ORIGINAL-URL:https://visitfarmington.org
X-WR-CALDESC:Events for Welcome to Farmington
REFRESH-INTERVAL;VALUE=DURATION:PT1H
X-Robots-Tag:noindex
X-PUBLISHED-TTL:PT1H
BEGIN:VTIMEZONE
TZID:America/Kentucky/Louisville
BEGIN:DAYLIGHT
TZOFFSETFROM:-0500
TZOFFSETTO:-0400
TZNAME:EDT
DTSTART:20250309T070000
END:DAYLIGHT
BEGIN:STANDARD
TZOFFSETFROM:-0400
TZOFFSETTO:-0500
TZNAME:EST
DTSTART:20251102T060000
END:STANDARD
BEGIN:DAYLIGHT
TZOFFSETFROM:-0500
TZOFFSETTO:-0400
TZNAME:EDT
DTSTART:20260308T070000
END:DAYLIGHT
BEGIN:STANDARD
TZOFFSETFROM:-0400
TZOFFSETTO:-0500
TZNAME:EST
DTSTART:20261101T060000
END:STANDARD
BEGIN:DAYLIGHT
TZOFFSETFROM:-0500
TZOFFSETTO:-0400
TZNAME:EDT
DTSTART:20270314T070000
END:DAYLIGHT
BEGIN:STANDARD
TZOFFSETFROM:-0400
TZOFFSETTO:-0500
TZNAME:EST
DTSTART:20271107T060000
END:STANDARD
END:VTIMEZONE
BEGIN:VEVENT
DTSTART;TZID=America/Kentucky/Louisville:20260422T183000
DTEND;TZID=America/Kentucky/Louisville:20260422T200000
DTSTAMP:20260421T141728
CREATED:20260408T182212Z
LAST-MODIFIED:20260408T182256Z
UID:3882-1776882600-1776888000@visitfarmington.org
SUMMARY:KY Shakespeare with The Tempest
DESCRIPTION:
URL:https://visitfarmington.org/event/ky-shakespeare-with-the-tempest/
LOCATION:Farmington\, 3033 Bardstown Road\, Louisville\, 40205\, United States
ATTACH;FMTTYPE=image/jpeg:https://visitfarmington.org/wp-content/uploads/2026/04/Farmington-KYS-2026-Tempest-FB-Cover-scaled.jpg
END:VEVENT
BEGIN:VEVENT
DTSTART;TZID=America/Kentucky/Louisville:20260502T100000
DTEND;TZID=America/Kentucky/Louisville:20260502T130000
DTSTAMP:20260421T141728
CREATED:20260408T182630Z
LAST-MODIFIED:20260408T182630Z
UID:3886-1777716000-1777726800@visitfarmington.org
SUMMARY:Historic Homes Foundation Derby Breakfast
DESCRIPTION:Louisvile Kentucky’s Historic Homes Foundation invites you to start your \nDerby Day off right with the 47th Annual Derby Breakfast at Farmington. \nEnjoy a locally source\, Kentucky Proud brunch by \nA FULL PLATE CATERING \nWith an open bar and live music by Electria Strings \nAll proceeds support the Historic Homes Foundation\, A 501(C)3 \nOrganization that preserves and displays Kentucky’s historic sites \nIncluding: Farmington\,  Thomas Edison House\, and Whitehall House & Gardens
URL:https://visitfarmington.org/event/historic-homes-foundation-derby-breakfast-2/
LOCATION:Farmington\, 3033 Bardstown Road\, Louisville\, 40205\, United States
ATTACH;FMTTYPE=image/jpeg:https://visitfarmington.org/wp-content/uploads/2026/02/6S0A7342-scaled.jpg
END:VEVENT
BEGIN:VEVENT
DTSTART;TZID=America/Kentucky/Louisville:20260509T110000
DTEND;TZID=America/Kentucky/Louisville:20260509T123000
DTSTAMP:20260421T141728
CREATED:20260408T194337Z
LAST-MODIFIED:20260408T194337Z
UID:3916-1778324400-1778329800@visitfarmington.org
SUMMARY:May in the Vegetable Garden
DESCRIPTION:In our monthly programs\, with a combination of lecture and hands-on training in the Teaching Garden\, we will show you how to grow produce throughout the season in raised beds\, in the ground\, in strawbales\, and containers. Each monthly class will specifically target what’s happening in the vegetable and herb beds at that time.
URL:https://visitfarmington.org/event/may-in-the-vegetable-garden/
LOCATION:Farmington\, 3033 Bardstown Road\, Louisville\, 40205\, United States
ATTACH;FMTTYPE=image/jpeg:https://visitfarmington.org/wp-content/uploads/2026/03/images-3.jpeg
END:VEVENT
BEGIN:VEVENT
DTSTART;TZID=America/Kentucky/Louisville:20260514T100000
DTEND;TZID=America/Kentucky/Louisville:20260514T113000
DTSTAMP:20260421T141728
CREATED:20260409T141707Z
LAST-MODIFIED:20260409T142929Z
UID:3956-1778752800-1778758200@visitfarmington.org
SUMMARY:Farmigardeners
DESCRIPTION:Vegetable Gardening for Beginners \nWhat better way to learn how to grow your own vegetables and herbs than by working hands-on alongside our gardening coaches in the Jefferson County Master Gardener Association Teaching Garden at Farmington throughout the gardening season? Learn to grow by growing!
URL:https://visitfarmington.org/event/farmigardeners/
LOCATION:Farmington\, 3033 Bardstown Road\, Louisville\, 40205\, United States
ATTACH;FMTTYPE=image/jpeg:https://visitfarmington.org/wp-content/uploads/2026/03/Farmington-Gardening-00007-scaled.jpg
END:VEVENT
BEGIN:VEVENT
DTSTART;TZID=America/Kentucky/Louisville:20260514T180000
DTEND;TZID=America/Kentucky/Louisville:20260514T193000
DTSTAMP:20260421T141728
CREATED:20260408T200246Z
LAST-MODIFIED:20260408T200246Z
UID:3928-1778781600-1778787000@visitfarmington.org
SUMMARY:Design & Grow a Kitchen Garden
DESCRIPTION:Step back in time and discover the beauty of the traditional kitchen garden.
URL:https://visitfarmington.org/event/design-grow-a-kitchen-garden/
LOCATION:Farmington\, 3033 Bardstown Road\, Louisville\, 40205\, United States
ATTACH;FMTTYPE=image/jpeg:https://visitfarmington.org/wp-content/uploads/2026/03/Farmington-Gardening-00003-scaled.jpg
END:VEVENT
BEGIN:VEVENT
DTSTART;TZID=America/Kentucky/Louisville:20260515T180000
DTEND;TZID=America/Kentucky/Louisville:20260515T200000
DTSTAMP:20260421T141728
CREATED:20260408T183408Z
LAST-MODIFIED:20260408T183408Z
UID:3890-1778868000-1778875200@visitfarmington.org
SUMMARY:Music in the Pavilion
DESCRIPTION:FREE Family (and dog) Friendly events \nEvery Third Thursday from May to September
URL:https://visitfarmington.org/event/music-in-the-pavilion/
LOCATION:Farmington\, 3033 Bardstown Road\, Louisville\, 40205\, United States
ATTACH;FMTTYPE=image/jpeg:https://visitfarmington.org/wp-content/uploads/2026/04/IMG_6083-rotated-1.jpg
END:VEVENT
BEGIN:VEVENT
DTSTART;TZID=America/Kentucky/Louisville:20260516T100000
DTEND;TZID=America/Kentucky/Louisville:20260516T113000
DTSTAMP:20260421T141728
CREATED:20260408T202825Z
LAST-MODIFIED:20260408T202825Z
UID:3930-1778925600-1778931000@visitfarmington.org
SUMMARY:FarmiKids Grow!
DESCRIPTION:Join us for informative and playful kid-friendly activities with (shh!) a dose of age-appropriate science lessons thrown in to broaden kids’ knowledge and experience with the natural world.
URL:https://visitfarmington.org/event/farmikids-grow/
LOCATION:Farmington\, 3033 Bardstown Road\, Louisville\, 40205\, United States
ATTACH;FMTTYPE=image/jpeg:https://visitfarmington.org/wp-content/uploads/2026/03/Child-Pushing-a-Wheelbarrow-in-the-Garden.jpg
END:VEVENT
BEGIN:VEVENT
DTSTART;TZID=America/Kentucky/Louisville:20260519T180000
DTEND;TZID=America/Kentucky/Louisville:20260519T193000
DTSTAMP:20260421T141728
CREATED:20260409T144443Z
LAST-MODIFIED:20260409T144512Z
UID:3972-1779213600-1779219000@visitfarmington.org
SUMMARY:Our Bountiful Garden
DESCRIPTION:Let’s Eat!\n\n\n\n\nJoin us for a delicious evening as our local chef prepares seasonal recipes featuring fresh vegetables and herbs harvested straight from our Teaching Garden. You’ll pick up expert growing tips and learn exactly when to harvest and how to preserve your bounty to make the most of every crop. \nMay 19           Harvesting & Eating Early/Cool Season Plants
URL:https://visitfarmington.org/event/our-bountiful-garden/
LOCATION:Farmington\, 3033 Bardstown Road\, Louisville\, 40205\, United States
ATTACH;FMTTYPE=image/jpeg:https://visitfarmington.org/wp-content/uploads/2026/04/Unknown.jpeg
END:VEVENT
BEGIN:VEVENT
DTSTART;TZID=America/Kentucky/Louisville:20260523T100000
DTEND;TZID=America/Kentucky/Louisville:20260523T113000
DTSTAMP:20260421T141728
CREATED:20260409T140300Z
LAST-MODIFIED:20260409T140300Z
UID:3943-1779530400-1779535800@visitfarmington.org
SUMMARY:Naturalistic Gardening
DESCRIPTION:Using Native Plants & Eco-Friendly Methods to Create a Sustainable Landscape/Garden that Pleases You & Critters Too!
URL:https://visitfarmington.org/event/naturalistic-gardening/
LOCATION:Farmington\, 3033 Bardstown Road\, Louisville\, 40205\, United States
ATTACH;FMTTYPE=image/jpeg:https://visitfarmington.org/wp-content/uploads/2026/04/Farmington-Pollinator-Event-00028-scaled.jpg
END:VEVENT
BEGIN:VEVENT
DTSTART;TZID=America/Kentucky/Louisville:20260528T100000
DTEND;TZID=America/Kentucky/Louisville:20260528T113000
DTSTAMP:20260421T141728
CREATED:20260409T143128Z
LAST-MODIFIED:20260409T143128Z
UID:3958-1779962400-1779967800@visitfarmington.org
SUMMARY:Farmigardeners
DESCRIPTION:Vegetable Gardening for Beginners \nWhat better way to learn how to grow your own vegetables and herbs than by working hands-on alongside our gardening coaches in the Jefferson County Master Gardener Association Teaching Garden at Farmington throughout the gardening season? Learn to grow by growing!
URL:https://visitfarmington.org/event/farmigardeners-2/
LOCATION:Farmington\, 3033 Bardstown Road\, Louisville\, 40205\, United States
ATTACH;FMTTYPE=image/jpeg:https://visitfarmington.org/wp-content/uploads/2026/03/Farmington-Gardening-00007-scaled.jpg
END:VEVENT
BEGIN:VEVENT
DTSTART;TZID=America/Kentucky/Louisville:20260603T100000
DTEND;TZID=America/Kentucky/Louisville:20260603T140000
DTSTAMP:20260421T141728
CREATED:20260410T134421Z
LAST-MODIFIED:20260410T134421Z
UID:3998-1780480800-1780495200@visitfarmington.org
SUMMARY:Cultural Pass - FarmiKids Grow
DESCRIPTION:Cultural Pass offers young people ages 0-21 and their families in the Greater Louisville and \nSouthern Indiana area access to participate in arts\, culture\, science\, history\, heritage\, and \nnature activities provided by over 50 venues\, free of charge \nFarmiKids Grow – \nSessions will include a variety of ‘fun education’\, craft activity\, hands-on work in the garden\, nature appreciation activity\, journalling\, and a garden snack
URL:https://visitfarmington.org/event/cultural-pass-farmikids-grow/
LOCATION:Farmington\, 3033 Bardstown Road\, Louisville\, 40205\, United States
ATTACH;FMTTYPE=image/jpeg:https://visitfarmington.org/wp-content/uploads/2026/03/Child-Pushing-a-Wheelbarrow-in-the-Garden.jpg
END:VEVENT
BEGIN:VEVENT
DTSTART;TZID=America/Kentucky/Louisville:20260604T180000
DTEND;TZID=America/Kentucky/Louisville:20260604T213000
DTSTAMP:20260421T141728
CREATED:20260408T184500Z
LAST-MODIFIED:20260408T184500Z
UID:3901-1780596000-1780608600@visitfarmington.org
SUMMARY:An Evening in the Garden
DESCRIPTION:An Evening in the Garden\nHonoring 2026 Anne Bruce Haldeman\nAward Recipient:\nLois Mateus\nFor work in Kentucky landscapes\, history\, and preservation.\n  \nWe will also take advantage of this special occasion\nto recognize\nChris Morris\,\nFormer Farmington Board Member and\nMaster Distiller Emeritus of Woodford Reserve\nfor 50 years of service at Brown-Forman.
URL:https://visitfarmington.org/event/an-evening-in-the-garden-2/
LOCATION:Farmington\, 3033 Bardstown Road\, Louisville\, 40205\, United States
ATTACH;FMTTYPE=image/jpeg:https://visitfarmington.org/wp-content/uploads/2026/03/IMG_3444-1.jpeg
END:VEVENT
BEGIN:VEVENT
DTSTART;TZID=America/Kentucky/Louisville:20260610T100000
DTEND;TZID=America/Kentucky/Louisville:20260610T140000
DTSTAMP:20260421T141728
CREATED:20260410T133547Z
LAST-MODIFIED:20260410T133547Z
UID:3988-1781085600-1781100000@visitfarmington.org
SUMMARY:Cultural Pass - Archeology Wash Day
DESCRIPTION:Cultural Pass offers young people ages 0-21 and their families in the Greater Louisville and  \nSouthern Indiana area access to participate in arts\, culture\, science\, history\, heritage\, and \nnature activities provided by over 50 venues\, free of charge \nArcheology Wash Day \nWork with archaeologists washing artifacts from our projects and learn more about what these objects can tell us about people in the past.
URL:https://visitfarmington.org/event/cultural-pass-archeology-wash-day/
LOCATION:Farmington\, 3033 Bardstown Road\, Louisville\, 40205\, United States
ATTACH;FMTTYPE=image/jpeg:https://visitfarmington.org/wp-content/uploads/2026/04/1772569398660-u9wjb.jpeg
END:VEVENT
BEGIN:VEVENT
DTSTART;TZID=America/Kentucky/Louisville:20260611T100000
DTEND;TZID=America/Kentucky/Louisville:20260611T113000
DTSTAMP:20260421T141728
CREATED:20260409T140650Z
LAST-MODIFIED:20260409T140650Z
UID:3948-1781172000-1781177400@visitfarmington.org
SUMMARY:Naturalistic Gardening
DESCRIPTION:Using Native Plants & Eco-Friendly Methods to Create a Sustainable Landscape/Garden that Pleases You & Critters Too!
URL:https://visitfarmington.org/event/naturalistic-gardening-3/
LOCATION:Farmington\, 3033 Bardstown Road\, Louisville\, 40205\, United States
ATTACH;FMTTYPE=image/jpeg:https://visitfarmington.org/wp-content/uploads/2026/04/Farmington-Pollinator-Event-00028-scaled.jpg
END:VEVENT
BEGIN:VEVENT
DTSTART;TZID=America/Kentucky/Louisville:20260613T110000
DTEND;TZID=America/Kentucky/Louisville:20260613T123000
DTSTAMP:20260421T141728
CREATED:20260408T194546Z
LAST-MODIFIED:20260408T194546Z
UID:3918-1781348400-1781353800@visitfarmington.org
SUMMARY:June in the Vegetable Garden
DESCRIPTION:In our monthly programs\, with a combination of lecture and hands-on training in the Teaching Garden\, we will show you how to grow produce throughout the season in raised beds\, in the ground\, in strawbales\, and containers. Each monthly class will specifically target what’s happening in the vegetable and herb beds at that time.
URL:https://visitfarmington.org/event/june-in-the-vegetable-garden-2/
LOCATION:Farmington\, 3033 Bardstown Road\, Louisville\, 40205\, United States
ATTACH;FMTTYPE=image/jpeg:https://visitfarmington.org/wp-content/uploads/2026/03/images-3.jpeg
END:VEVENT
BEGIN:VEVENT
DTSTART;TZID=America/Kentucky/Louisville:20260617T100000
DTEND;TZID=America/Kentucky/Louisville:20260617T140000
DTSTAMP:20260421T141728
CREATED:20260410T134024Z
LAST-MODIFIED:20260410T134024Z
UID:3993-1781690400-1781704800@visitfarmington.org
SUMMARY:Cultural Pass - Honeybee Demonstration Day
DESCRIPTION:Cultural Pass offers young people ages 0-21 and their families in the Greater Louisville and \nSouthern Indiana area access to participate in arts\, culture\, science\, history\, heritage\, and \nnature activities provided by over 50 venues\, free of charge \nHoneybee Demonstration Day \nMeet with the Farmington beekeeper and learn about the benefits of honeybees to our ecosystem. Check out our hives and our pollinator prairie.
URL:https://visitfarmington.org/event/cultural-pass-honeybee-demonstration-day/
LOCATION:Farmington\, 3033 Bardstown Road\, Louisville\, 40205\, United States
ATTACH;FMTTYPE=image/jpeg:https://visitfarmington.org/wp-content/uploads/2026/04/1772642192802-87pg1q-scaled.jpeg
END:VEVENT
BEGIN:VEVENT
DTSTART;TZID=America/Kentucky/Louisville:20260619T090000
DTEND;TZID=America/Kentucky/Louisville:20260619T150000
DTSTAMP:20260421T141728
CREATED:20260408T191716Z
LAST-MODIFIED:20260408T191716Z
UID:3909-1781859600-1781881200@visitfarmington.org
SUMMARY:Juneteenth
DESCRIPTION:FREE TOURS all day on JUNETEENTH\nIn honor of Juneteenth Farmington is holding a day of special programming with an emphasis on the enslaved individuals who lived and labored on this land.  Delve into the experiences of Farmington’s residents & guests (most notably Abraham Lincoln)\, exploring a unique KY history with national impact.
URL:https://visitfarmington.org/event/juneteenth/
LOCATION:Farmington\, 3033 Bardstown Road\, Louisville\, 40205\, United States
ATTACH;FMTTYPE=image/jpeg:https://visitfarmington.org/wp-content/uploads/2025/03/Unknown-1.jpeg
END:VEVENT
BEGIN:VEVENT
DTSTART;TZID=America/Kentucky/Louisville:20260619T180000
DTEND;TZID=America/Kentucky/Louisville:20260619T200000
DTSTAMP:20260421T141728
CREATED:20260408T183625Z
LAST-MODIFIED:20260408T183625Z
UID:3893-1781892000-1781899200@visitfarmington.org
SUMMARY:Music in the Pavilion
DESCRIPTION:FREE Family (and dog) Friendly events \n\n\nEvery Third Thursday from May to September
URL:https://visitfarmington.org/event/music-in-the-pavilion-2/
LOCATION:Farmington\, 3033 Bardstown Road\, Louisville\, 40205\, United States
ATTACH;FMTTYPE=image/jpeg:https://visitfarmington.org/wp-content/uploads/2026/04/IMG_6083-rotated-1.jpg
END:VEVENT
BEGIN:VEVENT
DTSTART;TZID=America/Kentucky/Louisville:20260620T100000
DTEND;TZID=America/Kentucky/Louisville:20260620T113000
DTSTAMP:20260421T141728
CREATED:20260409T135135Z
LAST-MODIFIED:20260409T135135Z
UID:3932-1781949600-1781955000@visitfarmington.org
SUMMARY:FarmiKids Grow!
DESCRIPTION:Join us for informative and playful kid-friendly activities with (shh!) a dose of age-appropriate science lessons thrown in to broaden kids’ knowledge and experience with the natural world.
URL:https://visitfarmington.org/event/farmikids-grow-2/
LOCATION:Farmington\, 3033 Bardstown Road\, Louisville\, 40205\, United States
ATTACH;FMTTYPE=image/jpeg:https://visitfarmington.org/wp-content/uploads/2026/03/Child-Pushing-a-Wheelbarrow-in-the-Garden.jpg
END:VEVENT
BEGIN:VEVENT
DTSTART;TZID=America/Kentucky/Louisville:20260624T100000
DTEND;TZID=America/Kentucky/Louisville:20260624T140000
DTSTAMP:20260421T141728
CREATED:20260410T134158Z
LAST-MODIFIED:20260410T134158Z
UID:3996-1782295200-1782309600@visitfarmington.org
SUMMARY:Cultural Pass - Honeybee Demonstration Day
DESCRIPTION:Cultural Pass offers young people ages 0-21 and their families in the Greater Louisville and \nSouthern Indiana area access to participate in arts\, culture\, science\, history\, heritage\, and \nnature activities provided by over 50 venues\, free of charge \nHoneybee Demonstration Day \nMeet with the Farmington beekeeper and learn about the benefits of honeybees to our ecosystem. Check out our hives and our pollinator prairie.
URL:https://visitfarmington.org/event/cultural-pass-honeybee-demonstration-day-2/
LOCATION:Farmington\, 3033 Bardstown Road\, Louisville\, 40205\, United States
ATTACH;FMTTYPE=image/jpeg:https://visitfarmington.org/wp-content/uploads/2026/04/1772642192802-87pg1q-scaled.jpeg
END:VEVENT
BEGIN:VEVENT
DTSTART;TZID=America/Kentucky/Louisville:20260625T100000
DTEND;TZID=America/Kentucky/Louisville:20260625T113000
DTSTAMP:20260421T141728
CREATED:20260409T143318Z
LAST-MODIFIED:20260409T143318Z
UID:3960-1782381600-1782387000@visitfarmington.org
SUMMARY:Farmigardeners
DESCRIPTION:Vegetable Gardening for Beginners \nWhat better way to learn how to grow your own vegetables and herbs than by working hands-on alongside our gardening coaches in the Jefferson County Master Gardener Association Teaching Garden at Farmington throughout the gardening season? Learn to grow by growing!
URL:https://visitfarmington.org/event/farmigardeners-3/
LOCATION:Farmington\, 3033 Bardstown Road\, Louisville\, 40205\, United States
ATTACH;FMTTYPE=image/jpeg:https://visitfarmington.org/wp-content/uploads/2026/03/Farmington-Gardening-00007-scaled.jpg
END:VEVENT
BEGIN:VEVENT
DTSTART;TZID=America/Kentucky/Louisville:20260627T100000
DTEND;TZID=America/Kentucky/Louisville:20260627T113000
DTSTAMP:20260421T141728
CREATED:20260409T140438Z
LAST-MODIFIED:20260409T140438Z
UID:3946-1782554400-1782559800@visitfarmington.org
SUMMARY:Naturalistic Gardening
DESCRIPTION:Using Native Plants & Eco-Friendly Methods to Create a Sustainable Landscape/Garden that Pleases You & Critters Too!
URL:https://visitfarmington.org/event/naturalistic-gardening-2/
LOCATION:Farmington\, 3033 Bardstown Road\, Louisville\, 40205\, United States
ATTACH;FMTTYPE=image/jpeg:https://visitfarmington.org/wp-content/uploads/2026/04/Farmington-Pollinator-Event-00028-scaled.jpg
END:VEVENT
BEGIN:VEVENT
DTSTART;TZID=America/Kentucky/Louisville:20260701T100000
DTEND;TZID=America/Kentucky/Louisville:20260701T140000
DTSTAMP:20260421T141728
CREATED:20260410T135335Z
LAST-MODIFIED:20260410T135335Z
UID:4003-1782900000-1782914400@visitfarmington.org
SUMMARY:Cultural Pass
DESCRIPTION:Cultural Pass offers young people ages 0-21 and their families in the Greater Louisville and \nSouthern Indiana area access to participate in arts\, culture\, science\, history\, heritage\, and \nnature activities provided by over 50 venues\, free of charge
URL:https://visitfarmington.org/event/cultural-pass/
LOCATION:Farmington\, 3033 Bardstown Road\, Louisville\, 40205\, United States
ATTACH;FMTTYPE=image/png:https://visitfarmington.org/wp-content/uploads/2026/04/Cultural-Pass-App-Logo-with-URL-scaled-1.png
END:VEVENT
BEGIN:VEVENT
DTSTART;TZID=America/Kentucky/Louisville:20260708T100000
DTEND;TZID=America/Kentucky/Louisville:20260708T140000
DTSTAMP:20260421T141728
CREATED:20260410T134555Z
LAST-MODIFIED:20260410T134555Z
UID:4001-1783504800-1783519200@visitfarmington.org
SUMMARY:Cultural Pass - FarmiKids Grow
DESCRIPTION:Cultural Pass offers young people ages 0-21 and their families in the Greater Louisville and \nSouthern Indiana area access to participate in arts\, culture\, science\, history\, heritage\, and \nnature activities provided by over 50 venues\, free of charge \nFarmiKids Grow – \nSessions will include a variety of ‘fun education’\, craft activity\, hands-on work in the garden\, nature appreciation activity\, journalling\, and a garden snack
URL:https://visitfarmington.org/event/cultural-pass-farmikids-grow-2/
LOCATION:Farmington\, 3033 Bardstown Road\, Louisville\, 40205\, United States
ATTACH;FMTTYPE=image/jpeg:https://visitfarmington.org/wp-content/uploads/2026/03/Child-Pushing-a-Wheelbarrow-in-the-Garden.jpg
END:VEVENT
BEGIN:VEVENT
DTSTART;TZID=America/Kentucky/Louisville:20260709T100000
DTEND;TZID=America/Kentucky/Louisville:20260709T113000
DTSTAMP:20260421T141728
CREATED:20260409T140856Z
LAST-MODIFIED:20260409T140856Z
UID:3950-1783591200-1783596600@visitfarmington.org
SUMMARY:Naturalistic Gardening
DESCRIPTION:Using Native Plants & Eco-Friendly Methods to Create a Sustainable Landscape/Garden that Pleases You & Critters Too!
URL:https://visitfarmington.org/event/naturalistic-gardening-4/
LOCATION:Farmington\, 3033 Bardstown Road\, Louisville\, 40205\, United States
ATTACH;FMTTYPE=image/jpeg:https://visitfarmington.org/wp-content/uploads/2026/04/Farmington-Pollinator-Event-00028-scaled.jpg
END:VEVENT
BEGIN:VEVENT
DTSTART;TZID=America/Kentucky/Louisville:20260711T110000
DTEND;TZID=America/Kentucky/Louisville:20260711T123000
DTSTAMP:20260421T141728
CREATED:20260408T194732Z
LAST-MODIFIED:20260408T194732Z
UID:3920-1783767600-1783773000@visitfarmington.org
SUMMARY:July in the Vegetable Garden
DESCRIPTION:In our monthly programs\, with a combination of lecture and hands-on training in the Teaching Garden\, we will show you how to grow produce throughout the season in raised beds\, in the ground\, in strawbales\, and containers. Each monthly class will specifically target what’s happening in the vegetable and herb beds at that time.
URL:https://visitfarmington.org/event/july-in-the-vegetable-garden-2/
LOCATION:Farmington\, 3033 Bardstown Road\, Louisville\, 40205\, United States
ATTACH;FMTTYPE=image/jpeg:https://visitfarmington.org/wp-content/uploads/2026/03/images-3.jpeg
END:VEVENT
BEGIN:VEVENT
DTSTART;TZID=America/Kentucky/Louisville:20260714T180000
DTEND;TZID=America/Kentucky/Louisville:20260714T193000
DTSTAMP:20260421T141728
CREATED:20260409T144726Z
LAST-MODIFIED:20260409T144726Z
UID:3977-1784052000-1784057400@visitfarmington.org
SUMMARY:Our Bountiful Garden
DESCRIPTION:Let’s Eat! \nJoin us for a delicious evening as our local chef prepares seasonal recipes featuring fresh vegetables and herbs harvested straight from our Teaching Garden. You’ll pick up expert growing tips and learn exactly when to harvest and how to preserve your bounty to make the most of every crop. \nJuly 14          Harvesting & Eating Early Summer Vegetables
URL:https://visitfarmington.org/event/our-bountiful-garden-2/
LOCATION:Farmington\, 3033 Bardstown Road\, Louisville\, 40205\, United States
ATTACH;FMTTYPE=image/jpeg:https://visitfarmington.org/wp-content/uploads/2026/04/Unknown.jpeg
END:VEVENT
BEGIN:VEVENT
DTSTART;TZID=America/Kentucky/Louisville:20260715T100000
DTEND;TZID=America/Kentucky/Louisville:20260715T140000
DTSTAMP:20260421T141728
CREATED:20260410T133748Z
LAST-MODIFIED:20260410T133748Z
UID:3991-1784109600-1784124000@visitfarmington.org
SUMMARY:Cultural Pass - Archeology Wash Day
DESCRIPTION:Cultural Pass offers young people ages 0-21 and their families in the Greater Louisville and  \nSouthern Indiana area access to participate in arts\, culture\, science\, history\, heritage\, and \nnature activities provided by over 50 venues\, free of charge \nArcheology Wash Day \nWork with archaeologists washing artifacts from our projects and learn more about what these objects can tell us about people in the past.
URL:https://visitfarmington.org/event/cultural-pass-archeology-wash-day-2/
LOCATION:Farmington\, 3033 Bardstown Road\, Louisville\, 40205\, United States
ATTACH;FMTTYPE=image/jpeg:https://visitfarmington.org/wp-content/uploads/2026/04/1772569398660-u9wjb.jpeg
END:VEVENT
BEGIN:VEVENT
DTSTART;TZID=America/Kentucky/Louisville:20260717T180000
DTEND;TZID=America/Kentucky/Louisville:20260717T200000
DTSTAMP:20260421T141728
CREATED:20260408T183805Z
LAST-MODIFIED:20260408T183805Z
UID:3895-1784311200-1784318400@visitfarmington.org
SUMMARY:Music in the Pavilion
DESCRIPTION:FREE Family (and dog) Friendly events \n\n\nEvery Third Thursday from May to September
URL:https://visitfarmington.org/event/music-in-the-pavilion-3/
LOCATION:Farmington\, 3033 Bardstown Road\, Louisville\, 40205\, United States
ATTACH;FMTTYPE=image/jpeg:https://visitfarmington.org/wp-content/uploads/2026/04/IMG_6083-rotated-1.jpg
END:VEVENT
BEGIN:VEVENT
DTSTART;TZID=America/Kentucky/Louisville:20260718T100000
DTEND;TZID=America/Kentucky/Louisville:20260718T113000
DTSTAMP:20260421T141728
CREATED:20260409T135335Z
LAST-MODIFIED:20260409T135352Z
UID:3934-1784368800-1784374200@visitfarmington.org
SUMMARY:FarmiKids Grow!
DESCRIPTION:Join us for informative and playful kid-friendly activities with (shh!) a dose of age-appropriate science lessons thrown in to broaden kids’ knowledge and experience with the natural world. \n\n 
URL:https://visitfarmington.org/event/farmikids-grow-3/
LOCATION:Farmington\, 3033 Bardstown Road\, Louisville\, 40205\, United States
ATTACH;FMTTYPE=image/jpeg:https://visitfarmington.org/wp-content/uploads/2026/03/Child-Pushing-a-Wheelbarrow-in-the-Garden.jpg
END:VEVENT
END:VCALENDAR